BEGIN:VCALENDAR
VERSION:2.0
PRODID:-//Groupe Choral Intyamon - ECPv6.15.20//NONSGML v1.0//EN
CALSCALE:GREGORIAN
METHOD:PUBLISH
X-WR-CALNAME:Groupe Choral Intyamon
X-ORIGINAL-URL:https://gc-intyamon.jonasbeaud.ch
X-WR-CALDESC:Évènements pour Groupe Choral Intyamon
REFRESH-INTERVAL;VALUE=DURATION:PT1H
X-Robots-Tag:noindex
X-PUBLISHED-TTL:PT1H
BEGIN:VTIMEZONE
TZID:Europe/Zurich
BEGIN:DAYLIGHT
TZOFFSETFROM:+0100
TZOFFSETTO:+0200
TZNAME:CEST
DTSTART:20250330T010000
END:DAYLIGHT
BEGIN:STANDARD
TZOFFSETFROM:+0200
TZOFFSETTO:+0100
TZNAME:CET
DTSTART:20251026T010000
END:STANDARD
BEGIN:DAYLIGHT
TZOFFSETFROM:+0100
TZOFFSETTO:+0200
TZNAME:CEST
DTSTART:20260329T010000
END:DAYLIGHT
BEGIN:STANDARD
TZOFFSETFROM:+0200
TZOFFSETTO:+0100
TZNAME:CET
DTSTART:20261025T010000
END:STANDARD
BEGIN:DAYLIGHT
TZOFFSETFROM:+0100
TZOFFSETTO:+0200
TZNAME:CEST
DTSTART:20270328T010000
END:DAYLIGHT
BEGIN:STANDARD
TZOFFSETFROM:+0200
TZOFFSETTO:+0100
TZNAME:CET
DTSTART:20271031T010000
END:STANDARD
END:VTIMEZONE
BEGIN:VEVENT
DTSTART;TZID=Europe/Zurich:20260507T200000
DTEND;TZID=Europe/Zurich:20260507T213000
DTSTAMP:20260423T055659
CREATED:20260302T152719Z
LAST-MODIFIED:20260419T184652Z
UID:259-1778184000-1778189400@gc-intyamon.jonasbeaud.ch
SUMMARY:Concert annuel
DESCRIPTION:Notre concert annuel
URL:https://gc-intyamon.jonasbeaud.ch/event/concert-annuel/
ATTACH;FMTTYPE=image/jpeg:https://gc-intyamon.jonasbeaud.ch/wp-content/uploads/2026/02/gc_intyamon_1744218504_3607088715156283636_56717609646.jpg
END:VEVENT
BEGIN:VEVENT
DTSTART;TZID=Europe/Zurich:20260611T000000
DTEND;TZID=Europe/Zurich:20260627T000000
DTSTAMP:20260423T055659
CREATED:20260316T160931Z
LAST-MODIFIED:20260419T183708Z
UID:704-1781136000-1782518400@gc-intyamon.jonasbeaud.ch
SUMMARY:1876 - L'incendie
DESCRIPTION:Flyer
URL:https://gc-intyamon.jonasbeaud.ch/event/1876-lincendie-2/
ATTACH;FMTTYPE=image/jpeg:https://gc-intyamon.jonasbeaud.ch/wp-content/uploads/2026/03/Flyer_incendie_recto.jpg
END:VEVENT
END:VCALENDAR